BEGIN:VCALENDAR
VERSION:2.0
PRODID:-//Triathlon Vereniging Rijnmond - ECPv4.8.1//NONSGML v1.0//EN
CALSCALE:GREGORIAN
METHOD:PUBLISH
X-WR-CALNAME:Triathlon Vereniging Rijnmond
X-ORIGINAL-URL:https://www.triathlonrijnmond.nl
X-WR-CALDESC:Events for Triathlon Vereniging Rijnmond
BEGIN:VEVENT
DTSTART;TZID=Europe/Amsterdam:20190203T130000
DTEND;TZID=Europe/Amsterdam:20190203T150000
DTSTAMP:20260423T005242
CREATED:20190130T163447Z
LAST-MODIFIED:20190130T164041Z
UID:6023-1549198800-1549206000@www.triathlonrijnmond.nl
SUMMARY:100x100m zwemmen
DESCRIPTION:Triathlon Vereniging Rijnmond organiseert op zondagmiddag 3 februari een 100×100 zwemmen voor triatleten. \nDeelnemen:\n– individueel\n– teams 2 personen (50×100 ieder)\n– teams 4 personen (25×100 ieder) \nDuur: 3 uur (1:48 per 100m); bij vol bad 3:20 uur (2:00 per 100m) \nStart: 13.00 uur (registratie 12.30; kleedkamer open 12.45) \nLocatie: 50m wedstrijdbad Charlois / Zuidplein\, Annie M.G. Schmidtplein 8 \nHet water is altijd 26 gr C 🙂 \n
URL:https://www.triathlonrijnmond.nl/index.php/event/100x100m-zwemmen/
LOCATION:50m bad Rotterdam-Zuid\, Annie M.G. Schmidtplein 8\, Rotterdam\, 3083 NZ
CATEGORIES:Zwemmen
END:VEVENT
END:VCALENDAR