BEGIN:VCALENDAR
VERSION:2.0
PRODID:-//Triathlon Vereniging Rijnmond - ECPv4.8.1//NONSGML v1.0//EN
CALSCALE:GREGORIAN
METHOD:PUBLISH
X-WR-CALNAME:Triathlon Vereniging Rijnmond
X-ORIGINAL-URL:https://www.triathlonrijnmond.nl
X-WR-CALDESC:Events for Triathlon Vereniging Rijnmond
BEGIN:VEVENT
DTSTART;TZID=Europe/Amsterdam:20181023T200000
DTEND;TZID=Europe/Amsterdam:20181023T210000
DTSTAMP:20260423T023105
CREATED:20180223T125125Z
LAST-MODIFIED:20180223T125125Z
UID:5271-1540324800-1540328400@www.triathlonrijnmond.nl
SUMMARY:5km hardlopen (Clubcompetitie)
DESCRIPTION:
URL:https://www.triathlonrijnmond.nl/index.php/event/5km-hardlopen-clubcompetitie/
LOCATION:De Polderpoort\, Watersportweg 12\, Vlaardingen\, 3138 HD\, Nederland
CATEGORIES:Clubcompetitie,Hardlopen
END:VEVENT
END:VCALENDAR