BEGIN:VCALENDAR
VERSION:2.0
PRODID:-//Triathlon Vereniging Rijnmond - ECPv4.8.1//NONSGML v1.0//EN
CALSCALE:GREGORIAN
METHOD:PUBLISH
X-WR-CALNAME:Triathlon Vereniging Rijnmond
X-ORIGINAL-URL:https://www.triathlonrijnmond.nl
X-WR-CALDESC:Events for Triathlon Vereniging Rijnmond
BEGIN:VEVENT
DTSTART;VALUE=DATE:20190518
DTEND;VALUE=DATE:20190520
DTSTAMP:20260423T035832
CREATED:20190130T165314Z
LAST-MODIFIED:20190130T165314Z
UID:6079-1558137600-1558310399@www.triathlonrijnmond.nl
SUMMARY:Almere DUIN triathlon
DESCRIPTION:Dit weekend starten alle divisies\, dus kom onze atleten aanmoedigen! \n
URL:https://www.triathlonrijnmond.nl/index.php/event/almere-duin-triathlon/
CATEGORIES:Teamcompetitie,Triathlon
END:VEVENT
END:VCALENDAR