BEGIN:VCALENDAR
VERSION:2.0
PRODID:-//Triathlon Vereniging Rijnmond - ECPv4.8.1//NONSGML v1.0//EN
CALSCALE:GREGORIAN
METHOD:PUBLISH
X-WR-CALNAME:Triathlon Vereniging Rijnmond
X-ORIGINAL-URL:https://www.triathlonrijnmond.nl
X-WR-CALDESC:Events for Triathlon Vereniging Rijnmond
BEGIN:VEVENT
DTSTART;TZID=Europe/Amsterdam:20180908T080000
DTEND;TZID=Europe/Amsterdam:20180908T170000
DTSTAMP:20260423T022802
CREATED:20180519T182239Z
LAST-MODIFIED:20180822T083531Z
UID:5681-1536393600-1536426000@www.triathlonrijnmond.nl
SUMMARY:Challenge Almere
DESCRIPTION:Een begrip in Nederland\, de triathlon in Almere… Dit jaar doen van TVR een record aantal mensen mee. Kom ze aanmoedigen! \nLong: \nChristel Muis – 1306 \nRobert van der Toorn – 454 \nCees den Dunnen – 658 \nBerco Breugem – 675 \nMiddle: \nPeter Brochard – 2604 \nEllen Driesen – 4115 \nAuke Jongbloed – 3296 \nCarola Nell – 4331 \nJane Peterzon – 4558 \nFilipe Pocas – 2854 \nMarcel Soselisa – 3433 \nRick van der Weerd – 3069 \nMark Wilson – 2969 \nDennis van de Worp – 2992 \n
URL:https://www.triathlonrijnmond.nl/index.php/event/challenge-almere/
CATEGORIES:Triathlon
END:VEVENT
END:VCALENDAR