BEGIN:VCALENDAR
VERSION:2.0
PRODID:-//Triathlon Vereniging Rijnmond - ECPv4.8.1//NONSGML v1.0//EN
CALSCALE:GREGORIAN
METHOD:PUBLISH
X-WR-CALNAME:Triathlon Vereniging Rijnmond
X-ORIGINAL-URL:https://www.triathlonrijnmond.nl
X-WR-CALDESC:Events for Triathlon Vereniging Rijnmond
BEGIN:VEVENT
DTSTART;TZID=Europe/Amsterdam:20190310T120000
DTEND;TZID=Europe/Amsterdam:20190310T170000
DTSTAMP:20260423T023134
CREATED:20190130T162705Z
LAST-MODIFIED:20190306T201027Z
UID:6019-1552219200-1552237200@www.triathlonrijnmond.nl
SUMMARY:City-Pier-City Den Haag
DESCRIPTION:Kom Raoul\, Yolanda\, Marigje\, Germaine\, Sake\, Renleo\, Matthew en Miriam aanmoedigen in Den Haag! \n
URL:https://www.triathlonrijnmond.nl/index.php/event/city-pier-city-den-haag/
CATEGORIES:Hardlopen
END:VEVENT
END:VCALENDAR