BEGIN:VCALENDAR
VERSION:2.0
PRODID:-//Triathlon Vereniging Rijnmond - ECPv4.8.1//NONSGML v1.0//EN
CALSCALE:GREGORIAN
METHOD:PUBLISH
X-WR-CALNAME:Triathlon Vereniging Rijnmond
X-ORIGINAL-URL:https://www.triathlonrijnmond.nl
X-WR-CALDESC:Events for Triathlon Vereniging Rijnmond
BEGIN:VEVENT
DTSTART;TZID=Europe/Amsterdam:20190221T210000
DTEND;TZID=Europe/Amsterdam:20190221T220000
DTSTAMP:20260423T005444
CREATED:20190130T164011Z
LAST-MODIFIED:20190130T164210Z
UID:6035-1550782800-1550786400@www.triathlonrijnmond.nl
SUMMARY:Clubcompetitie - zwemtest 1000m
DESCRIPTION:
URL:https://www.triathlonrijnmond.nl/index.php/event/clubcompetitie-zwemtest-1000m-2/
LOCATION:Bad Groenoord\, Prinses Beatrixlaan 2\, Schiedam
CATEGORIES:Clubcompetitie,Zwemmen
END:VEVENT
END:VCALENDAR