BEGIN:VCALENDAR
VERSION:2.0
PRODID:-//Triathlon Vereniging Rijnmond - ECPv4.8.1//NONSGML v1.0//EN
CALSCALE:GREGORIAN
METHOD:PUBLISH
X-WR-CALNAME:Triathlon Vereniging Rijnmond
X-ORIGINAL-URL:https://www.triathlonrijnmond.nl
X-WR-CALDESC:Events for Triathlon Vereniging Rijnmond
BEGIN:VEVENT
DTSTART;TZID=Europe/Amsterdam:20190218T210000
DTEND;TZID=Europe/Amsterdam:20190218T220000
DTSTAMP:20260423T005348
CREATED:20190130T163901Z
LAST-MODIFIED:20190130T163901Z
UID:6031-1550523600-1550527200@www.triathlonrijnmond.nl
SUMMARY:Clubcompetitie - zwemtest 1000m
DESCRIPTION:
URL:https://www.triathlonrijnmond.nl/index.php/event/clubcompetitie-zwemtest-1000m/
LOCATION:Zwembad de Dolfijn\, Sportlaan 8\, Maassluis\, 3141 XN
CATEGORIES:Clubcompetitie,Zwemmen
END:VEVENT
END:VCALENDAR