BEGIN:VCALENDAR
VERSION:2.0
PRODID:-//Triathlon Vereniging Rijnmond - ECPv4.8.1//NONSGML v1.0//EN
CALSCALE:GREGORIAN
METHOD:PUBLISH
X-WR-CALNAME:Triathlon Vereniging Rijnmond
X-ORIGINAL-URL:https://www.triathlonrijnmond.nl
X-WR-CALDESC:Events for Triathlon Vereniging Rijnmond
BEGIN:VEVENT
DTSTART;TZID=Europe/Amsterdam:20180320T200000
DTEND;TZID=Europe/Amsterdam:20180320T201200
DTSTAMP:20260423T035810
CREATED:20180223T123533Z
LAST-MODIFIED:20180223T123845Z
UID:5231-1521576000-1521576720@www.triathlonrijnmond.nl
SUMMARY:Coopertest (Clubcompetitie)
DESCRIPTION:
URL:https://www.triathlonrijnmond.nl/index.php/event/coopertest/
CATEGORIES:Clubcompetitie,Hardlopen
END:VEVENT
END:VCALENDAR