BEGIN:VCALENDAR
VERSION:2.0
PRODID:-//Triathlon Vereniging Rijnmond - ECPv4.8.1//NONSGML v1.0//EN
CALSCALE:GREGORIAN
METHOD:PUBLISH
X-WR-CALNAME:Triathlon Vereniging Rijnmond
X-ORIGINAL-URL:https://www.triathlonrijnmond.nl
X-WR-CALDESC:Events for Triathlon Vereniging Rijnmond
BEGIN:VEVENT
DTSTART;TZID=Europe/Amsterdam:20180624T080000
DTEND;TZID=Europe/Amsterdam:20180624T170000
DTSTAMP:20260423T021217
CREATED:20180519T181741Z
LAST-MODIFIED:20180623T174108Z
UID:5675-1529827200-1529859600@www.triathlonrijnmond.nl
SUMMARY:Frysman triathlon
DESCRIPTION:Go Erik en Ed Go!\nKom Erik Boender aanmoedigen bij zijn eerste hele triathlon. Maar ook de routinier Ed kan jullie aanmoedigingen uiteraard goed gebruiken 🙂 Moaier wurdt t net! \nVolg ze live: https://frysman.nl/liveblog \n  \n
URL:https://www.triathlonrijnmond.nl/index.php/event/frysman-triathlon/
CATEGORIES:Triathlon
END:VEVENT
END:VCALENDAR