BEGIN:VCALENDAR
VERSION:2.0
PRODID:-//Triathlon Vereniging Rijnmond - ECPv4.8.1//NONSGML v1.0//EN
CALSCALE:GREGORIAN
METHOD:PUBLISH
X-WR-CALNAME:Triathlon Vereniging Rijnmond
X-ORIGINAL-URL:https://www.triathlonrijnmond.nl
X-WR-CALDESC:Events for Triathlon Vereniging Rijnmond
BEGIN:VEVENT
DTSTART;TZID=Europe/Amsterdam:20180805T070000
DTEND;TZID=Europe/Amsterdam:20180805T180000
DTSTAMP:20260423T023044
CREATED:20180514T120013Z
LAST-MODIFIED:20180724T092752Z
UID:5641-1533452400-1533492000@www.triathlonrijnmond.nl
SUMMARY:Ironman Maastricht
DESCRIPTION:Nog een paar dagen en dan staan er 7 leden van TVR aan de start van IronMan Maastricht\, waaronder maar liefst 5 voor de allereerste keer. Het belooft nu al heroïsch te worden met naar alle waarschijnlijkheid een non-wetsuit swim\, een uitdagend fietsparkoers met enkele pittige beklimmingen en afsluitend een marathon bij een temperatuur van boven de 30 graden Celsius. Voor sommige een droomscenario\, voor anderen een nachtmerrie .\nZe zullen het er mee moeten doen en één ding staat vast; hier zal nog vele jaren over gesproken worden. \n\nAlle deelnemende leden zijn te volgen via de IM App. Maastricht is echter op een gewone dag al gezellig\, dus kom vooral ook even langs om live aan te moedigen! \nDe startnummers zijn bekend: \n\nMiriam Teeuwsen 328 (debutante)\nMatt Harvey 710 (debutant)\nEllen de Ruiter 392 (debutante)\nRalph Poelstra 610 (debutant)\nRaoul Majewski 882 (debutant)\nMartijn Krijger 866\nMark Wilson 134\n\n\n
URL:https://www.triathlonrijnmond.nl/index.php/event/ironman-maastricht/
CATEGORIES:Triathlon
END:VEVENT
END:VCALENDAR