BEGIN:VCALENDAR
VERSION:2.0
PRODID:-//Triathlon Vereniging Rijnmond - ECPv4.8.1//NONSGML v1.0//EN
CALSCALE:GREGORIAN
METHOD:PUBLISH
X-WR-CALNAME:Triathlon Vereniging Rijnmond
X-ORIGINAL-URL:https://www.triathlonrijnmond.nl
X-WR-CALDESC:Events for Triathlon Vereniging Rijnmond
BEGIN:VEVENT
DTSTART;TZID=Europe/Amsterdam:20250408T080000
DTEND;TZID=Europe/Amsterdam:20250408T170000
DTSTAMP:20260424T214922
CREATED:20250408T163356Z
LAST-MODIFIED:20250408T164025Z
UID:7933-1744099200-1744131600@www.triathlonrijnmond.nl
SUMMARY:Marathon Rotterdam
DESCRIPTION:Met o.a. Berco\, Christel\, Jantine\, Julia\, Lucy\, Marjan\, Mark\, Ramon en Raoul. \n
URL:https://www.triathlonrijnmond.nl/index.php/event/marathon-rotterdam-2/
END:VEVENT
END:VCALENDAR