BEGIN:VCALENDAR
VERSION:2.0
PRODID:-//Triathlon Vereniging Rijnmond - ECPv4.8.1//NONSGML v1.0//EN
CALSCALE:GREGORIAN
METHOD:PUBLISH
X-WR-CALNAME:Triathlon Vereniging Rijnmond
X-ORIGINAL-URL:https://www.triathlonrijnmond.nl
X-WR-CALDESC:Events for Triathlon Vereniging Rijnmond
BEGIN:VEVENT
DTSTART;VALUE=DATE:20250413
DTEND;VALUE=DATE:20250414
DTSTAMP:20260424T195327
CREATED:20250411T174447Z
LAST-MODIFIED:20250411T174447Z
UID:7939-1744502400-1744588799@www.triathlonrijnmond.nl
SUMMARY:Marathon Rotterdam
DESCRIPTION:Met Berco\, Christel\, Daniël\, Jantine\, Julia\, Lucy\, Marjan\, Mark\, Peter\, Philip\, Ramon en Raoul. \n
URL:https://www.triathlonrijnmond.nl/index.php/event/marathon-rotterdam-3/
LOCATION:Rotterdam
END:VEVENT
END:VCALENDAR