BEGIN:VCALENDAR
VERSION:2.0
PRODID:-//Triathlon Vereniging Rijnmond - ECPv4.8.1//NONSGML v1.0//EN
CALSCALE:GREGORIAN
METHOD:PUBLISH
X-WR-CALNAME:Triathlon Vereniging Rijnmond
X-ORIGINAL-URL:https://www.triathlonrijnmond.nl
X-WR-CALDESC:Events for Triathlon Vereniging Rijnmond
BEGIN:VEVENT
DTSTART;TZID=Europe/Amsterdam:20180408T100000
DTEND;TZID=Europe/Amsterdam:20180408T150000
DTSTAMP:20260423T054233
CREATED:20180223T130216Z
LAST-MODIFIED:20180408T184658Z
UID:5275-1523181600-1523199600@www.triathlonrijnmond.nl
SUMMARY:Marathon van Rotterdam
DESCRIPTION:Welke leden kun je aanmoedigen?  \n\nAuke Jongbloed\nErik Boender\nGovert van Meerkerk\nJeroen Alkemade\nJoost Kadijk\nMark Wilson\nMatt Harvey\nMarcel Soselisa\nMiriam Teeuwssen\nNancy de Kok\nNiek van Zijl\nPeter van den Bent\nPetra Aaldring\nRaoul Majewski\nReinard Maarleveld\nRick Brouwer (laatste loper van estafetteteam 1 – Dirk Kuyt Foundation)\nRobert van der Toorn\nRon van der Graaf\nSake Zijlstra\nSander van Vliet\n\n  \n
URL:https://www.triathlonrijnmond.nl/index.php/event/marathon-van-rotterdam/
LOCATION:Coolsingel\, Coolsingel\, Rotterdam\, Nederland
CATEGORIES:Hardlopen
END:VEVENT
END:VCALENDAR