BEGIN:VCALENDAR
VERSION:2.0
PRODID:-//Triathlon Vereniging Rijnmond - ECPv4.8.1//NONSGML v1.0//EN
CALSCALE:GREGORIAN
METHOD:PUBLISH
X-WR-CALNAME:Triathlon Vereniging Rijnmond
X-ORIGINAL-URL:https://www.triathlonrijnmond.nl
X-WR-CALDESC:Events for Triathlon Vereniging Rijnmond
BEGIN:VEVENT
DTSTART;TZID=Europe/Amsterdam:20190707T080000
DTEND;TZID=Europe/Amsterdam:20190707T170000
DTSTAMP:20260422T184057
CREATED:20190306T200227Z
LAST-MODIFIED:20190306T200233Z
UID:6203-1562486400-1562518800@www.triathlonrijnmond.nl
SUMMARY:Marmotte
DESCRIPTION:Peter\, Aad\, C’Anna en Miriam gaan dit jaar de uitdaging aan! Succes! \n
URL:https://www.triathlonrijnmond.nl/index.php/event/marmotte/
CATEGORIES:Fietsen
END:VEVENT
END:VCALENDAR