BEGIN:VCALENDAR
VERSION:2.0
PRODID:-//Triathlon Vereniging Rijnmond - ECPv4.8.1//NONSGML v1.0//EN
CALSCALE:GREGORIAN
METHOD:PUBLISH
X-WR-CALNAME:Triathlon Vereniging Rijnmond
X-ORIGINAL-URL:https://www.triathlonrijnmond.nl
X-WR-CALDESC:Events for Triathlon Vereniging Rijnmond
BEGIN:VEVENT
DTSTART;TZID=Europe/Amsterdam:20180609T080000
DTEND;TZID=Europe/Amsterdam:20180610T170000
DTSTAMP:20260423T051640
CREATED:20180326T101455Z
LAST-MODIFIED:20180326T105234Z
UID:5377-1528531200-1528650000@www.triathlonrijnmond.nl
SUMMARY:Rabobank Stadstriathlon Weert (Teamcompetitie)
DESCRIPTION:Kom al onze teams aanmoedigen in het weekend van 9 en 10 juni in Weert! \nZie het programma onder voor alle onderdelen: \nZaterdag 9 juni 2018\n\n\n\nTijd\nWedstrijd\n\n\n\nType wedstrijd\n\n\n09:00\n1eDivisie – Heren (OD)\n1.500\n37.000\n10.000\nStayer\n\n\n09:55\n1eDivisie – Dames (OD)\n1.500\n37.000\n10.000\nStayer\n\n\n11:25\n3eDivisie  (Sprint)\n750\n18.000\n5.000\nNiet-stayer\n\n\n13:20\n4eDivisie (Sprint)\n750\n18.000\n5.000\nNiet-stayer\n\n\n13:50\nRecreanten (Sprint)\n750\n18.000\n5.000\nNiet-stayer\n\n\n14:30\nRecreanten (Kwart)\n1.000\n37.000\n10.000\nNiet-stayer\n\n\n18:00\nIRONKIDS Ouder-kind / aspiranten\n200\n6.400\n1.700\nNiet-stayer\n\n\n19:00\nBedrijvencompetitie\n200\n6.400\n1.700\nNiet-stayer\n\n\n\n  \nZondag 10 juni 2018\n\n\n\nTijd\nWedstrijd\n\n\n\nType wedstrijd\n\n\n08:00\nAge Group (OD)\n1.500\n37.000\n10.000\nNiet-stayer\n\n\n08:00\nRecreanten (Kwart)\n1.000\n37.000\n10.000\nNiet-stayer\n\n\n10:00\n2eDivisie – Dames (Sprint)\n750\n18.000\n5.000\nNiet-stayer\n\n\n10:35\n2eDivisie – Heren (Sprint)\n750\n18.000\n5.000\nNiet-stayer\n\n\n12:30\nETU European Cup – Dames (OD)\n1.500\n43.000\n10.000\nStayer\n\n\n15:30\nETU European Cup – Heren (OD)\n1.500\n43.000\n10.000\nStayer\n\n\n\n  \n
URL:https://www.triathlonrijnmond.nl/index.php/event/rabobank-stadstriathlon-weert-teamcompetitie/
CATEGORIES:Teamcompetitie,Triathlon
END:VEVENT
END:VCALENDAR