BEGIN:VCALENDAR
VERSION:2.0
PRODID:-//Triathlon Vereniging Rijnmond - ECPv4.8.1//NONSGML v1.0//EN
CALSCALE:GREGORIAN
METHOD:PUBLISH
X-WR-CALNAME:Triathlon Vereniging Rijnmond
X-ORIGINAL-URL:https://www.triathlonrijnmond.nl
X-WR-CALDESC:Events for Triathlon Vereniging Rijnmond
BEGIN:VEVENT
DTSTART;TZID=Europe/Amsterdam:20180908T122000
DTEND;TZID=Europe/Amsterdam:20180908T160000
DTSTAMP:20260423T040021
CREATED:20180326T110846Z
LAST-MODIFIED:20180326T110846Z
UID:5395-1536409200-1536422400@www.triathlonrijnmond.nl
SUMMARY:Triathlon Vroomshoop (Teamcompetitie)
DESCRIPTION:Op 8 september reist ons 1e divisies damesteam af naar Vroomshoop. Kom ze aanmoedigen tijdens hun Team Time Trial! \nDe wedstrijd is een teamwedstrijd waarin het hele team tegelijk start en waarbij de tijd van de derde finisher telt. De afstand waarover de wedstrijd wordt gestreden is 450m zwemmen\, 18\,6km fietsen en 5\,5km (aanloopstuk + 2 ronden) hardlopen. \nOm 12:20 uur gaan het eerste damesteam van start. \n
URL:https://www.triathlonrijnmond.nl/index.php/event/triathlon-vroomshoop-teamcompetitie/
CATEGORIES:team time trial,Teamcompetitie
END:VEVENT
END:VCALENDAR