BEGIN:VCALENDAR
VERSION:2.0
PRODID:-//Triathlon Vereniging Rijnmond - ECPv4.8.1//NONSGML v1.0//EN
CALSCALE:GREGORIAN
METHOD:PUBLISH
X-WR-CALNAME:Triathlon Vereniging Rijnmond
X-ORIGINAL-URL:https://www.triathlonrijnmond.nl
X-WR-CALDESC:Events for Triathlon Vereniging Rijnmond
BEGIN:VEVENT
DTSTART;TZID=Europe/Amsterdam:20180916T080000
DTEND;TZID=Europe/Amsterdam:20180916T170000
DTSTAMP:20260423T040124
CREATED:20180326T110141Z
LAST-MODIFIED:20180326T110141Z
UID:5387-1537084800-1537117200@www.triathlonrijnmond.nl
SUMMARY:Triathlon024 in Nijmegen (Teamcompetitie)
DESCRIPTION:Zwemmen – Fietsen – Lopen – Zwemmen – Fietsen – Lopen \nOnze atleten moeten vast oefenen met wisselen want dit jaar staat een dubbele triathlon op het programma van de teamcompetitie. Alle divisies strijden voor de laatste punten in deze ZFLZFL-wedstrijd in Nijmegen. \n
URL:https://www.triathlonrijnmond.nl/index.php/event/triathlon024-in-nijmegen-teamcompetitie/
CATEGORIES:Teamcompetitie
END:VEVENT
END:VCALENDAR