BEGIN:VCALENDAR
VERSION:2.0
PRODID:-//Triathlon Vereniging Rijnmond - ECPv4.8.1//NONSGML v1.0//EN
CALSCALE:GREGORIAN
METHOD:PUBLISH
X-WR-CALNAME:Triathlon Vereniging Rijnmond
X-ORIGINAL-URL:https://www.triathlonrijnmond.nl
X-WR-CALDESC:Events for Triathlon Vereniging Rijnmond
BEGIN:VEVENT
DTSTART;VALUE=DATE:20190907
DTEND;VALUE=DATE:20190908
DTSTAMP:20260423T091653
CREATED:20190130T165953Z
LAST-MODIFIED:20190130T165953Z
UID:6095-1567814400-1567900799@www.triathlonrijnmond.nl
SUMMARY:Triatlon Vroomshoop
DESCRIPTION:De ontknoping bij de dames 1e divisie: een Team Time Trial in Vroomshoop! \n
URL:https://www.triathlonrijnmond.nl/index.php/event/triatlon-vroomshoop/
CATEGORIES:team time trial,Teamcompetitie
END:VEVENT
END:VCALENDAR