BEGIN:VCALENDAR
VERSION:2.0
PRODID:-//Triathlon Vereniging Rijnmond - ECPv4.8.1//NONSGML v1.0//EN
CALSCALE:GREGORIAN
METHOD:PUBLISH
X-WR-CALNAME:Triathlon Vereniging Rijnmond
X-ORIGINAL-URL:https://www.triathlonrijnmond.nl
X-WR-CALDESC:Events for Triathlon Vereniging Rijnmond
BEGIN:VEVENT
DTSTART;TZID=Europe/Amsterdam:20180619T190000
DTEND;TZID=Europe/Amsterdam:20180619T200000
DTSTAMP:20260423T005151
CREATED:20180223T124651Z
LAST-MODIFIED:20180305T172008Z
UID:5251-1529434800-1529438400@www.triathlonrijnmond.nl
SUMMARY:Zwemloop (Clubcompetitie)
DESCRIPTION:
URL:https://www.triathlonrijnmond.nl/index.php/event/zwemloop-clubcompetitie/
LOCATION:Boonervliet\, Boonervlietbrug\, Vlaardingen
CATEGORIES:Clubcompetitie,Zwemmen
END:VEVENT
END:VCALENDAR